BEGIN:VCALENDAR
VERSION:2.0
PRODID:-//ZContent.net//ZapCalLib 1.0//EN
CALSCALE:GREGORIAN
METHOD:PUBLISH
BEGIN:VEVENT
UID:69e8fba52e275@usbands.org
SUMMARY:Percussion Championships 2024
DTSTART:20240413T105500
DTEND:20240413T170100
DTSTAMP:20260422T164733
LOCATION:Bethlehem\, PA
DESCRIPTION:Percussion Championships 2024
END:VEVENT
END:VCALENDAR
