BEGIN:VCALENDAR
VERSION:2.0
PRODID:-//ZContent.net//ZapCalLib 1.0//EN
CALSCALE:GREGORIAN
METHOD:PUBLISH
BEGIN:VEVENT
UID:69e8e68f28179@usbands.org
SUMMARY:I A\, IV A\, V A\, & I Open Championships
DTSTART:20251108T060000
DTEND:20251108T190000
DTSTAMP:20260422T151735
LOCATION:Allentown\, PA
DESCRIPTION:I A\, IV A\, V A\, & I Open Championships
END:VEVENT
END:VCALENDAR
