BEGIN:VCALENDAR
VERSION:2.0
PRODID:-//ZContent.net//ZapCalLib 1.0//EN
CALSCALE:GREGORIAN
METHOD:PUBLISH
BEGIN:VEVENT
UID:69e90b930ecf1@usbands.org
SUMMARY:Severna Park High School
DTSTART:20251018T100000
DTEND:20251018T120100
DTSTAMP:20260422T175531
LOCATION:Severna Park\, MD
DESCRIPTION:Severna Park High School
END:VEVENT
END:VCALENDAR
