BEGIN:VCALENDAR
VERSION:2.0
PRODID:-//ZContent.net//ZapCalLib 1.0//EN
CALSCALE:GREGORIAN
METHOD:PUBLISH
BEGIN:VEVENT
UID:69e90b925f859@usbands.org
SUMMARY:New York State Championships
DTSTART:20251102T100000
DTEND:20251102T100100
DTSTAMP:20260422T175530
LOCATION:Lindenhurst\, NY
DESCRIPTION:New York State Championships
END:VEVENT
END:VCALENDAR
