BEGIN:VCALENDAR
VERSION:2.0
PRODID:-//ZContent.net//ZapCalLib 1.0//EN
CALSCALE:GREGORIAN
METHOD:PUBLISH
BEGIN:VEVENT
UID:69e90bd38d33e@usbands.org
SUMMARY:Southington High School
DTSTART:20251025T120000
DTEND:20251025T130000
DTSTAMP:20260422T175635
LOCATION:Southington\, CT
DESCRIPTION:Southington High School
END:VEVENT
END:VCALENDAR
