BEGIN:VCALENDAR
VERSION:2.0
PRODID:-//ZContent.net//ZapCalLib 1.0//EN
CALSCALE:GREGORIAN
METHOD:PUBLISH
BEGIN:VEVENT
UID:69e93ad91d526@usbands.org
SUMMARY:William Tennent High School
DTSTART:20251018T140000
DTEND:20251018T170000
DTSTAMP:20260422T211713
LOCATION:Warminster\, PA
DESCRIPTION:William Tennent High School
END:VEVENT
END:VCALENDAR
