BEGIN:VCALENDAR
VERSION:2.0
PRODID:-//ZContent.net//ZapCalLib 1.0//EN
CALSCALE:GREGORIAN
METHOD:PUBLISH
BEGIN:VEVENT
UID:69e90bdb9e3ad@usbands.org
SUMMARY:Naugatuck High School
DTSTART:20251018T150000
DTEND:20251018T160000
DTSTAMP:20260422T175643
LOCATION:Naugatuck\, CT
DESCRIPTION:Naugatuck High School
END:VEVENT
END:VCALENDAR
