BEGIN:VCALENDAR
VERSION:2.0
PRODID:-//ZContent.net//ZapCalLib 1.0//EN
CALSCALE:GREGORIAN
METHOD:PUBLISH
BEGIN:VEVENT
UID:69e90bd4d423c@usbands.org
SUMMARY:Rockville High School
DTSTART:20251018T150000
DTEND:20251018T160000
DTSTAMP:20260422T175636
LOCATION:Vernon\, CT
DESCRIPTION:Rockville High School
END:VEVENT
END:VCALENDAR
