BEGIN:VCALENDAR
VERSION:2.0
PRODID:-//ZContent.net//ZapCalLib 1.0//EN
CALSCALE:GREGORIAN
METHOD:PUBLISH
BEGIN:VEVENT
UID:69e9137cb8a51@usbands.org
SUMMARY:Lyman Hall High School
DTSTART:20251011T150000
DTEND:20251011T160000
DTSTAMP:20260422T182916
LOCATION:Wallingford\, CT
DESCRIPTION:Lyman Hall High School
END:VEVENT
END:VCALENDAR
