BEGIN:VCALENDAR
VERSION:2.0
PRODID:-//ZContent.net//ZapCalLib 1.0//EN
CALSCALE:GREGORIAN
METHOD:PUBLISH
BEGIN:VEVENT
UID:69e90bda394af@usbands.org
SUMMARY:Newtown High School
DTSTART:20251004T100000
DTEND:20251004T160000
DTSTAMP:20260422T175642
LOCATION:Newtown\, CT
DESCRIPTION:Newtown High School
END:VEVENT
END:VCALENDAR
