BEGIN:VCALENDAR
VERSION:2.0
PRODID:-//ZContent.net//ZapCalLib 1.0//EN
CALSCALE:GREGORIAN
METHOD:PUBLISH
BEGIN:VEVENT
UID:69e90bdbcf576@usbands.org
SUMMARY:Hammonton High School
DTSTART:20251004T120000
DTEND:20251004T130000
DTSTAMP:20260422T175643
LOCATION:Hammonton\, NJ
DESCRIPTION:Hammonton High School
END:VEVENT
END:VCALENDAR
