BEGIN:VCALENDAR
VERSION:2.0
PRODID:-//ZContent.net//ZapCalLib 1.0//EN
CALSCALE:GREGORIAN
METHOD:PUBLISH
BEGIN:VEVENT
UID:69e90bdb2305e@usbands.org
SUMMARY:Upper Dublin High School
DTSTART:20250927T140000
DTEND:20250927T160000
DTSTAMP:20260422T175643
LOCATION:Fort Washington\, PA
DESCRIPTION:Upper Dublin High School
END:VEVENT
END:VCALENDAR
