BEGIN:VCALENDAR
VERSION:2.0
PRODID:-//ZContent.net//ZapCalLib 1.0//EN
CALSCALE:GREGORIAN
METHOD:PUBLISH
BEGIN:VEVENT
UID:69e90b925c5a6@usbands.org
SUMMARY:Absegami High School
DTSTART:20250927T150000
DTEND:20250927T160000
DTSTAMP:20260422T175530
LOCATION:Galloway\, NJ
DESCRIPTION:Absegami High School
END:VEVENT
END:VCALENDAR
