BEGIN:VCALENDAR
VERSION:2.0
PRODID:-//ZContent.net//ZapCalLib 1.0//EN
CALSCALE:GREGORIAN
METHOD:PUBLISH
BEGIN:VEVENT
UID:69e90bdb88f92@usbands.org
SUMMARY:Central Dauphin High School
DTSTART:20251018T140000
DTEND:20251018T160100
DTSTAMP:20260422T175643
LOCATION:Harrisburg\, PA
DESCRIPTION:Central Dauphin High School
END:VEVENT
END:VCALENDAR
