BEGIN:VCALENDAR
VERSION:2.0
PRODID:-//ZContent.net//ZapCalLib 1.0//EN
CALSCALE:GREGORIAN
METHOD:PUBLISH
BEGIN:VEVENT
UID:69e90bd36662d@usbands.org
SUMMARY:Leonardtown High School
DTSTART:20251018T120000
DTEND:20251018T120100
DTSTAMP:20260422T175635
LOCATION:Leonardtown\, MD
DESCRIPTION:Leonardtown High School
END:VEVENT
END:VCALENDAR
