BEGIN:VCALENDAR
VERSION:2.0
PRODID:-//ZContent.net//ZapCalLib 1.0//EN
CALSCALE:GREGORIAN
METHOD:PUBLISH
BEGIN:VEVENT
UID:69e8e87adc063@usbands.org
SUMMARY:Wayne Valley High School
DTSTART:20251011T130000
DTEND:20251011T155100
DTSTAMP:20260422T152546
LOCATION:Wayne\, NJ
DESCRIPTION:Wayne Valley High School
END:VEVENT
END:VCALENDAR
