BEGIN:VCALENDAR
VERSION:2.0
PRODID:-//ZContent.net//ZapCalLib 1.0//EN
CALSCALE:GREGORIAN
METHOD:PUBLISH
BEGIN:VEVENT
UID:69e90b93bd324@usbands.org
SUMMARY:Somerville High School
DTSTART:20251011T120000
DTEND:20251011T130100
DTSTAMP:20260422T175531
LOCATION:Somerville\, NJ
DESCRIPTION:Somerville High School
END:VEVENT
END:VCALENDAR
