BEGIN:VCALENDAR
VERSION:2.0
PRODID:-//ZContent.net//ZapCalLib 1.0//EN
CALSCALE:GREGORIAN
METHOD:PUBLISH
BEGIN:VEVENT
UID:69e90bd980d1b@usbands.org
SUMMARY:East Ramapo High School
DTSTART:20251011T144500
DTEND:20251011T174600
DTSTAMP:20260422T175641
LOCATION:Spring Valley\, NY
DESCRIPTION:East Ramapo High School
END:VEVENT
END:VCALENDAR
