BEGIN:VCALENDAR
VERSION:2.0
PRODID:-//ZContent.net//ZapCalLib 1.0//EN
CALSCALE:GREGORIAN
METHOD:PUBLISH
BEGIN:VEVENT
UID:69e90bd94f497@usbands.org
SUMMARY:New Milford High School
DTSTART:20250920T150000
DTEND:20250920T160000
DTSTAMP:20260422T175641
LOCATION:New Milford\, CT
DESCRIPTION:New Milford High School
END:VEVENT
END:VCALENDAR
