BEGIN:VCALENDAR
VERSION:2.0
PRODID:-//ZContent.net//ZapCalLib 1.0//EN
CALSCALE:GREGORIAN
METHOD:PUBLISH
BEGIN:VEVENT
UID:69e938ca292fc@usbands.org
SUMMARY:New Oxford High School
DTSTART:20251004T150000
DTEND:20251004T150100
DTSTAMP:20260422T210826
LOCATION:New Oxford\, PA
DESCRIPTION:New Oxford High School
END:VEVENT
END:VCALENDAR
