BEGIN:VCALENDAR
VERSION:2.0
PRODID:-//ZContent.net//ZapCalLib 1.0//EN
CALSCALE:GREGORIAN
METHOD:PUBLISH
BEGIN:VEVENT
UID:69e90b93427c7@usbands.org
SUMMARY:Brien McMahon & Norwalk High Schools
DTSTART:20250913T140000
DTEND:20250913T160000
DTSTAMP:20260422T175531
LOCATION:Norwalk\, CT
DESCRIPTION:Brien McMahon & Norwalk High Schools
END:VEVENT
END:VCALENDAR
