BEGIN:VCALENDAR
VERSION:2.0
PRODID:-//ZContent.net//ZapCalLib 1.0//EN
CALSCALE:GREGORIAN
METHOD:PUBLISH
BEGIN:VEVENT
UID:69e90bda51db3@usbands.org
SUMMARY:Mechanicsburg Area Senior High School
DTSTART:20250927T150000
DTEND:20250927T190100
DTSTAMP:20260422T175642
LOCATION:Mechanicsburg\, PA
DESCRIPTION:Mechanicsburg Area Senior High School
END:VEVENT
END:VCALENDAR
