BEGIN:VCALENDAR
VERSION:2.0
PRODID:-//ZContent.net//ZapCalLib 1.0//EN
CALSCALE:GREGORIAN
METHOD:PUBLISH
BEGIN:VEVENT
UID:69e90b9259f01@usbands.org
SUMMARY:Hanover Park High School
DTSTART:20250927T120000
DTEND:20250927T190100
DTSTAMP:20260422T175530
LOCATION:East Hanover\, NJ
DESCRIPTION:Hanover Park High School
END:VEVENT
END:VCALENDAR
