BEGIN:VCALENDAR
VERSION:2.0
PRODID:-//ZContent.net//ZapCalLib 1.0//EN
CALSCALE:GREGORIAN
METHOD:PUBLISH
BEGIN:VEVENT
UID:69e90bdbb6cd8@usbands.org
SUMMARY:Ramsey High School
DTSTART:20250927T110000
DTEND:20250927T190100
DTSTAMP:20260422T175643
LOCATION:Ramsey\, NJ
DESCRIPTION:Ramsey High School
END:VEVENT
END:VCALENDAR
