BEGIN:VCALENDAR
VERSION:2.0
PRODID:-//ZContent.net//ZapCalLib 1.0//EN
CALSCALE:GREGORIAN
METHOD:PUBLISH
BEGIN:VEVENT
UID:69e90b93a2750@usbands.org
SUMMARY:Massachusetts & Rhode Island State Championships
DTSTART:20251101T100000
DTEND:20251101T080100
DTSTAMP:20260422T175531
LOCATION:Stoughton\, MA
DESCRIPTION:Massachusetts & Rhode Island State Championships
END:VEVENT
END:VCALENDAR
