BEGIN:VCALENDAR
VERSION:2.0
PRODID:-//ZContent.net//ZapCalLib 1.0//EN
CALSCALE:GREGORIAN
METHOD:PUBLISH
BEGIN:VEVENT
UID:69e90bd410f21@usbands.org
SUMMARY:Connecticut State Championships
DTSTART:20251101T060000
DTEND:20251101T080100
DTSTAMP:20260422T175636
LOCATION:New Britain\, CT
DESCRIPTION:Connecticut State Championships
END:VEVENT
END:VCALENDAR
