BEGIN:VCALENDAR
VERSION:2.0
PRODID:-//ZContent.net//ZapCalLib 1.0//EN
CALSCALE:GREGORIAN
METHOD:PUBLISH
BEGIN:VEVENT
UID:69e90bd9caff4@usbands.org
SUMMARY:West Shore School District
DTSTART:20250920T150000
DTEND:20250920T200100
DTSTAMP:20260422T175641
LOCATION:Camp Hill\, PA
DESCRIPTION:West Shore School District
END:VEVENT
END:VCALENDAR
