BEGIN:VCALENDAR
VERSION:2.0
PRODID:-//ZContent.net//ZapCalLib 1.0//EN
CALSCALE:GREGORIAN
METHOD:PUBLISH
BEGIN:VEVENT
UID:69e90b92ba633@usbands.org
SUMMARY:Northern Valley Regional High School at Old Tappan
DTSTART:20250920T103000
DTEND:20250920T195100
DTSTAMP:20260422T175530
LOCATION:Old Tappan\, NJ
DESCRIPTION:Northern Valley Regional High School at Old Tappan
END:VEVENT
END:VCALENDAR
