BEGIN:VCALENDAR
VERSION:2.0
PRODID:-//ZContent.net//ZapCalLib 1.0//EN
CALSCALE:GREGORIAN
METHOD:PUBLISH
BEGIN:VEVENT
UID:69e90bda833c6@usbands.org
SUMMARY:Patuxent High School
DTSTART:20250913T120000
DTEND:20250913T190100
DTSTAMP:20260422T175642
LOCATION:Lusby\, MD
DESCRIPTION:Patuxent High School
END:VEVENT
END:VCALENDAR
