BEGIN:VCALENDAR
VERSION:2.0
PRODID:-//ZContent.net//ZapCalLib 1.0//EN
CALSCALE:GREGORIAN
METHOD:PUBLISH
BEGIN:VEVENT
UID:69e9136893a18@usbands.org
SUMMARY:Hunterdon Central Regional High School
DTSTART:20250920T120000
DTEND:20250920T191600
DTSTAMP:20260422T182856
LOCATION:Flemington\, NJ
DESCRIPTION:Hunterdon Central Regional High School
END:VEVENT
END:VCALENDAR
