BEGIN:VCALENDAR
VERSION:2.0
PRODID:-//ZContent.net//ZapCalLib 1.0//EN
CALSCALE:GREGORIAN
METHOD:PUBLISH
BEGIN:VEVENT
UID:69e90bd36e7c7@usbands.org
SUMMARY:MD-VA Showcase
DTSTART:20251025T121500
DTEND:20251025T150100
DTSTAMP:20260422T175635
LOCATION:Owings Mills\, MD
DESCRIPTION:MD-VA Showcase
END:VEVENT
END:VCALENDAR
