BEGIN:VCALENDAR
VERSION:2.0
PRODID:-//ZContent.net//ZapCalLib 1.0//EN
CALSCALE:GREGORIAN
METHOD:PUBLISH
BEGIN:VEVENT
UID:69e90bd4409f3@usbands.org
SUMMARY:Mid-Atlantic Regional
DTSTART:20251025T130000
DTEND:20251025T150100
DTSTAMP:20260422T175636
LOCATION:Camp Hill\, PA
DESCRIPTION:Mid-Atlantic Regional
END:VEVENT
END:VCALENDAR
