BEGIN:VCALENDAR
VERSION:2.0
PRODID:-//ZContent.net//ZapCalLib 1.0//EN
CALSCALE:GREGORIAN
METHOD:PUBLISH
BEGIN:VEVENT
UID:69e8e8781a32a@usbands.org
SUMMARY:Ludwig Musser Classic
DTSTART:20251018T043000
DTEND:20251018T060100
DTSTAMP:20260422T152544
LOCATION:East Rutherford\, NJ
DESCRIPTION:Ludwig Musser Classic
END:VEVENT
END:VCALENDAR
