BEGIN:VCALENDAR
VERSION:2.0
PRODID:-//ZContent.net//ZapCalLib 1.0//EN
CALSCALE:GREGORIAN
METHOD:PUBLISH
BEGIN:VEVENT
UID:69e938a1daad6@usbands.org
SUMMARY:Jordan Elbridge High School
DTSTART:20250906T100000
DTEND:20250906T090100
DTSTAMP:20260422T210745
LOCATION:Jordan\, NY
DESCRIPTION:Jordan Elbridge High School
END:VEVENT
END:VCALENDAR
