BEGIN:VCALENDAR
VERSION:2.0
PRODID:-//ZContent.net//ZapCalLib 1.0//EN
CALSCALE:GREGORIAN
METHOD:PUBLISH
BEGIN:VEVENT
UID:69e90bd9e3b4b@usbands.org
SUMMARY:Great Mills High School
DTSTART:20250906T120000
DTEND:20250906T150100
DTSTAMP:20260422T175641
LOCATION:Great Mills\, MD
DESCRIPTION:Great Mills High School
END:VEVENT
END:VCALENDAR
