BEGIN:VCALENDAR
VERSION:2.0
PRODID:-//ZContent.net//ZapCalLib 1.0//EN
CALSCALE:GREGORIAN
METHOD:PUBLISH
BEGIN:VEVENT
UID:69e9134ac27df@usbands.org
SUMMARY:II\, III\, IV\, & V Open Class Championship
DTSTART:20251108T050000
DTEND:20251108T190000
DTSTAMP:20260422T182826
LOCATION:East Rutherford\, NJ
DESCRIPTION:II\, III\, IV\, & V Open Class Championship
END:VEVENT
END:VCALENDAR
