BEGIN:VCALENDAR
VERSION:2.0
PRODID:-//ZContent.net//ZapCalLib 1.0//EN
CALSCALE:GREGORIAN
METHOD:PUBLISH
BEGIN:VEVENT
UID:69e90f8ae9b16@usbands.org
SUMMARY:II A & III A Championships
DTSTART:20251109T070000
DTEND:20251109T190000
DTSTAMP:20260422T181226
LOCATION:Allentown\, PA
DESCRIPTION:II A & III A Championships
END:VEVENT
END:VCALENDAR
