BEGIN:VCALENDAR
VERSION:2.0
PRODID:-//ZContent.net//ZapCalLib 1.0//EN
CALSCALE:GREGORIAN
METHOD:PUBLISH
BEGIN:VEVENT
UID:69e8e87a61a32@usbands.org
SUMMARY:Fair Lawn High School
DTSTART:20250329T140000
DTEND:20250329T180000
DTSTAMP:20260422T152546
LOCATION:Fair Lawn\, NJ
DESCRIPTION:Fair Lawn High School
END:VEVENT
END:VCALENDAR
